BEGIN:VCALENDAR
VERSION:2.0
PRODID:-//Kringgroep Dordrecht e.o. - ECPv6.15.20//NONSGML v1.0//EN
CALSCALE:GREGORIAN
METHOD:PUBLISH
X-WR-CALNAME:Kringgroep Dordrecht e.o.
X-ORIGINAL-URL:https://www.boxerclub-dordrecht.nl
X-WR-CALDESC:Evenementen voor Kringgroep Dordrecht e.o.
REFRESH-INTERVAL;VALUE=DURATION:PT1H
X-Robots-Tag:noindex
X-PUBLISHED-TTL:PT1H
BEGIN:VTIMEZONE
TZID:Europe/Amsterdam
BEGIN:DAYLIGHT
TZOFFSETFROM:+0100
TZOFFSETTO:+0200
TZNAME:CEST
DTSTART:20210328T010000
END:DAYLIGHT
BEGIN:STANDARD
TZOFFSETFROM:+0200
TZOFFSETTO:+0100
TZNAME:CET
DTSTART:20211031T010000
END:STANDARD
BEGIN:DAYLIGHT
TZOFFSETFROM:+0100
TZOFFSETTO:+0200
TZNAME:CEST
DTSTART:20220327T010000
END:DAYLIGHT
BEGIN:STANDARD
TZOFFSETFROM:+0200
TZOFFSETTO:+0100
TZNAME:CET
DTSTART:20221030T010000
END:STANDARD
BEGIN:DAYLIGHT
TZOFFSETFROM:+0100
TZOFFSETTO:+0200
TZNAME:CEST
DTSTART:20230326T010000
END:DAYLIGHT
BEGIN:STANDARD
TZOFFSETFROM:+0200
TZOFFSETTO:+0100
TZNAME:CET
DTSTART:20231029T010000
END:STANDARD
END:VTIMEZONE
BEGIN:VEVENT
DTSTART;VALUE=DATE:20221009
DTEND;VALUE=DATE:20221010
DTSTAMP:20260425T230548
CREATED:20221004T202357Z
LAST-MODIFIED:20221004T204743Z
UID:1072-1665273600-1665359999@www.boxerclub-dordrecht.nl
SUMMARY:Boxeragility wedstrijd
DESCRIPTION:De laatste wedstrijd op 09 oktober 2022 is tevens het “Open Kampioenschap Agility voor Boxers”. \nStandaardaanvang van de wedstrijd is 9.30 uur .
URL:https://www.boxerclub-dordrecht.nl/event/boxeragility-wedstrijd/
LOCATION:Kringgroep Dordrecht\, Schenkeldijk Beneden 16\, Dordrecht\, 3328\, Netherlands
CATEGORIES:Boxerclub Dordrecht
ORGANIZER;CN="Kringgroep Dordrecht":MAILTO:info@boxerclub-dordrecht.nl
END:VEVENT
END:VCALENDAR