BEGIN:VCALENDAR
VERSION:2.0
PRODID:-//Kringgroep Dordrecht e.o. - ECPv6.15.20//NONSGML v1.0//EN
CALSCALE:GREGORIAN
METHOD:PUBLISH
X-ORIGINAL-URL:https://www.boxerclub-dordrecht.nl
X-WR-CALDESC:Evenementen voor Kringgroep Dordrecht e.o.
REFRESH-INTERVAL;VALUE=DURATION:PT1H
X-Robots-Tag:noindex
X-PUBLISHED-TTL:PT1H
BEGIN:VTIMEZONE
TZID:Europe/Amsterdam
BEGIN:DAYLIGHT
TZOFFSETFROM:+0100
TZOFFSETTO:+0200
TZNAME:CEST
DTSTART:20170326T010000
END:DAYLIGHT
BEGIN:STANDARD
TZOFFSETFROM:+0200
TZOFFSETTO:+0100
TZNAME:CET
DTSTART:20171029T010000
END:STANDARD
BEGIN:DAYLIGHT
TZOFFSETFROM:+0100
TZOFFSETTO:+0200
TZNAME:CEST
DTSTART:20180325T010000
END:DAYLIGHT
BEGIN:STANDARD
TZOFFSETFROM:+0200
TZOFFSETTO:+0100
TZNAME:CET
DTSTART:20181028T010000
END:STANDARD
BEGIN:DAYLIGHT
TZOFFSETFROM:+0100
TZOFFSETTO:+0200
TZNAME:CEST
DTSTART:20190331T010000
END:DAYLIGHT
BEGIN:STANDARD
TZOFFSETFROM:+0200
TZOFFSETTO:+0100
TZNAME:CET
DTSTART:20191027T010000
END:STANDARD
END:VTIMEZONE
BEGIN:VEVENT
DTSTART;TZID=Europe/Amsterdam:20180707T153000
DTEND;TZID=Europe/Amsterdam:20180707T210000
DTSTAMP:20260425T175131
CREATED:20180224T155223Z
LAST-MODIFIED:20180603T185459Z
UID:523-1530977400-1530997200@www.boxerclub-dordrecht.nl
SUMMARY:BBQ
DESCRIPTION:Beste leden\, \nBinnenkort gaan we weer met zijn allen genieten van de zomervakantie. Dit betekent dat de activiteiten bij de Boxerclub Dordrecht enige tijd stil zullen liggen. \nHet is ondertussen een jaarlijkse traditie dat we voor de leden voor de zomervakantie ter afsluiting een barbecue organiseren. Deze barbecue vindt plaats op zaterdag 7 juli vanaf 15:30 en de kosten bedragen 10 euro per persoon. Als u aan de BBQ wilt deelnemen\, horen we dit graag in verband met de inkoop. Aanmelden kan via mail aan info@boxerclub-dordrecht.nl of aan de bar van de club. \nDe leden die reeds aangegeven hebben dat ze aanwezig zijn\, hoeven niet nog een keer te reageren. \nDaarnaast wordt er voor aanvang van de BBQ nog een boxer doe middag georganiseerd\, waarbij de aanvangstijd afhankelijk is van het aantal deelnemers. Voor meer informatie over deze doe middag\, neem contact op met Dicky (secretaris@boxerclub-dordrecht.nl) of Anita \nMet vriendelijke groeten\,\nAndré
URL:https://www.boxerclub-dordrecht.nl/event/bbq/
LOCATION:Kringgroep Dordrecht\, Schenkeldijk Beneden 16\, Dordrecht\, 3328\, Netherlands
CATEGORIES:Algemeen,Boxerclub Dordrecht
ORGANIZER;CN="Kringgroep Dordrecht":MAILTO:info@boxerclub-dordrecht.nl
END:VEVENT
END:VCALENDAR