BEGIN:VCALENDAR
VERSION:2.0
PRODID:-//Kringgroep Dordrecht e.o. - ECPv6.15.20//NONSGML v1.0//EN
CALSCALE:GREGORIAN
METHOD:PUBLISH
X-WR-CALNAME:Kringgroep Dordrecht e.o.
X-ORIGINAL-URL:https://www.boxerclub-dordrecht.nl
X-WR-CALDESC:Evenementen voor Kringgroep Dordrecht e.o.
REFRESH-INTERVAL;VALUE=DURATION:PT1H
X-Robots-Tag:noindex
X-PUBLISHED-TTL:PT1H
BEGIN:VTIMEZONE
TZID:Europe/Amsterdam
BEGIN:DAYLIGHT
TZOFFSETFROM:+0100
TZOFFSETTO:+0200
TZNAME:CEST
DTSTART:20170326T010000
END:DAYLIGHT
BEGIN:STANDARD
TZOFFSETFROM:+0200
TZOFFSETTO:+0100
TZNAME:CET
DTSTART:20171029T010000
END:STANDARD
BEGIN:DAYLIGHT
TZOFFSETFROM:+0100
TZOFFSETTO:+0200
TZNAME:CEST
DTSTART:20180325T010000
END:DAYLIGHT
BEGIN:STANDARD
TZOFFSETFROM:+0200
TZOFFSETTO:+0100
TZNAME:CET
DTSTART:20181028T010000
END:STANDARD
BEGIN:DAYLIGHT
TZOFFSETFROM:+0100
TZOFFSETTO:+0200
TZNAME:CEST
DTSTART:20190331T010000
END:DAYLIGHT
BEGIN:STANDARD
TZOFFSETFROM:+0200
TZOFFSETTO:+0100
TZNAME:CET
DTSTART:20191027T010000
END:STANDARD
END:VTIMEZONE
BEGIN:VEVENT
DTSTART;TZID=Europe/Amsterdam:20180317T193000
DTEND;TZID=Europe/Amsterdam:20180317T233000
DTSTAMP:20260425T235317
CREATED:20180224T152337Z
LAST-MODIFIED:20180224T154751Z
UID:513-1521315000-1521329400@www.boxerclub-dordrecht.nl
SUMMARY:Klaverjassen en jokeren
DESCRIPTION:Op 17 maart gaan we weer klaverjassen en jokeren\, het inleggeld is weer zoals altijd 2\,50. \nVoor het jokeren zullen we dit keer spellen kaarten verzorgen met zessen er in 😉 \nWilt u meedoen? Graag even van te voren aanmelden aan de bar of via een mail aan info@abbemaict.nl
URL:https://www.boxerclub-dordrecht.nl/event/klaverjassen-en-jokeren/
LOCATION:Kringgroep Dordrecht\, Schenkeldijk Beneden 16\, Dordrecht\, 3328\, Netherlands
CATEGORIES:Algemeen,Boxerclub Dordrecht
ORGANIZER;CN="Kringgroep Dordrecht":MAILTO:info@boxerclub-dordrecht.nl
END:VEVENT
BEGIN:VEVENT
DTSTART;TZID=Europe/Amsterdam:20180331T140000
DTEND;TZID=Europe/Amsterdam:20180331T153000
DTSTAMP:20260425T235317
CREATED:20180224T154055Z
LAST-MODIFIED:20180224T154920Z
UID:519-1522504800-1522510200@www.boxerclub-dordrecht.nl
SUMMARY:Algemene Leden Vergadering
DESCRIPTION:Zaterdag 31 maart vanaf 14:00 verwachten we onze leden bij onze algemene ledenvergadering in ons clubhuis aan de Schenkeldijk.
URL:https://www.boxerclub-dordrecht.nl/event/algemene-leden-vergadering/
LOCATION:Kringgroep Dordrecht\, Schenkeldijk Beneden 16\, Dordrecht\, 3328\, Netherlands
CATEGORIES:Algemeen,Boxerclub Dordrecht
ORGANIZER;CN="Kringgroep Dordrecht":MAILTO:info@boxerclub-dordrecht.nl
END:VEVENT
END:VCALENDAR